BEGIN:VCALENDAR
VERSION:2.0
PRODID:-//boutique champagnes et vins - ECPv6.15.17.1//NONSGML v1.0//EN
CALSCALE:GREGORIAN
METHOD:PUBLISH
X-WR-CALNAME:boutique champagnes et vins
X-ORIGINAL-URL:https://reynaud-events.fr
X-WR-CALDESC:Évènements pour boutique champagnes et vins
REFRESH-INTERVAL;VALUE=DURATION:PT1H
X-Robots-Tag:noindex
X-PUBLISHED-TTL:PT1H
BEGIN:VTIMEZONE
TZID:UTC
BEGIN:STANDARD
TZOFFSETFROM:+0000
TZOFFSETTO:+0000
TZNAME:UTC
DTSTART:20230101T000000
END:STANDARD
END:VTIMEZONE
BEGIN:VEVENT
DTSTART;TZID=UTC:20240316T200000
DTEND;TZID=UTC:20240317T003000
DTSTAMP:20260421T215053
CREATED:20240130T152538Z
LAST-MODIFIED:20240310T092002Z
UID:1191-1710619200-1710635400@reynaud-events.fr
SUMMARY:Let's Dance\, les soirées Live
DESCRIPTION:Achetez vos places\n\n\n\n\nOlivier et Laure créent l'évènement et prennent possession pour la première de "La Noria" à Châteaurenard de 20h à 0h30. \n\n\n\nUne soirée dédiée à la musique en live avec le groupe Manhattan\, un style musical très groovy\, une voix inspirée sublime\, des rythmes qui suscitent une envie frénétique de danser ! \n\n\n\nhttps://www.facebook.com/Manhattan4Friends \n\n\n\nDJ SET by Yvan di Marco.... \n\n\n\nLes soirées "Let's dance" s'organisent dès 20h autour d'un cocktail dînatoire réalisé par le chef Eric Jourdan\, des produits d'exception avec le champagne J.M Gobillard\, des vins de la maison Sinnae. L'art culinaire se met au service de la fête\, de l'amitié et du partage. \n\n\n\nVenez découvrir les nouvelles saveurs de l'effervescence ! \n\n\n\nVoilà notre mission\, faire que cette soirée reste inoubliable\, les maîtres mots mots sont : musique\, danse et convivialité. \n\n\n\nAchetez vos places en ligne : imprimez votre facture ou présentez la sur votre téléphone à l'entrée. \n\n\n\nDès 20h : entrée 35 € avec cocktail dînatoire accompagné d'un verre de vin ou d'un cocktail  (uniquement sur réservation) \n\n\n\nOu entrée 10 € avec 1 boisson. réservation au : 06 12 45 12 56 \n\n\n\nL'abus d'alcool est dangereux pour la santé. A consommer avec modération !
URL:https://reynaud-events.fr/agenda/lets-dance-les-soirees-live-2
LOCATION:8 allée Josime Martin\, avenue Jean Mermoz 13160 Châteaurenard\, 8 allée Josime Martin avenue Jean Mermoz\, Châteaurenard\, 13160\, France
END:VEVENT
END:VCALENDAR