BEGIN:VCALENDAR
VERSION:2.0
PRODID:-//boutique champagnes et vins - ECPv6.15.17.1//NONSGML v1.0//EN
CALSCALE:GREGORIAN
METHOD:PUBLISH
X-ORIGINAL-URL:https://reynaud-events.fr
X-WR-CALDESC:Évènements pour boutique champagnes et vins
REFRESH-INTERVAL;VALUE=DURATION:PT1H
X-Robots-Tag:noindex
X-PUBLISHED-TTL:PT1H
BEGIN:VTIMEZONE
TZID:UTC
BEGIN:STANDARD
TZOFFSETFROM:+0000
TZOFFSETTO:+0000
TZNAME:UTC
DTSTART:20230101T000000
END:STANDARD
END:VTIMEZONE
BEGIN:VEVENT
DTSTART;TZID=UTC:20240426T000000
DTEND;TZID=UTC:20240428T235959
DTSTAMP:20260421T201403
CREATED:20240312T150830Z
LAST-MODIFIED:20240312T150832Z
UID:1268-1714089600-1714348799@reynaud-events.fr
SUMMARY:Portes ouvertes Champagne J.M Gobillard
DESCRIPTION:La Famille Gobillard et Reynaud Events ont le plaisir de vous convier ainsi que vos amis à leurs journées exceptionnelles pour découvrir leurs différentes cuvées au Mas Gourmand. \n\n\n\nVendredi 26 Avril de 14h à 19 h\, Samedi 27 Avril de 10h30 à 19h et dimanche 28 Avril de 10h30 à 17h. Télécharger votre invitation ! \n\n\n\n\n\n\n\n\n\n\n\n\n\n\n\n\n\n\n	\n		\n\n			\n			\n\n							\n					\n						Évènements à venir					\n				\n			\n			\n				\n											\n\n	\n	\n		\n			Mai		\n		\n			1		\n	\n\n\n	\n		\n			\n\n				\n					\n		\n		1 mai @ 10:00 am - 3 mai @ 7:00 pm	\n	\n					\n	\n		Les portes ouvertes JM Gobillard	\n\n				\n\n				\n			\n		\n	\n\n\n									\n\n				\n	\n		Voir le calendrier
URL:https://reynaud-events.fr/agenda/portes-ouvertes-champagne-j-m-gobillard-2
LOCATION:Châteaurenard\, 3190 route d'Avignon\, CHâteaurenard\, 13160\, France
END:VEVENT
END:VCALENDAR