BEGIN:VCALENDAR
VERSION:2.0
PRODID:-//boutique champagnes et vins - ECPv6.15.17.1//NONSGML v1.0//EN
CALSCALE:GREGORIAN
METHOD:PUBLISH
X-ORIGINAL-URL:https://reynaud-events.fr
X-WR-CALDESC:Évènements pour boutique champagnes et vins
REFRESH-INTERVAL;VALUE=DURATION:PT1H
X-Robots-Tag:noindex
X-PUBLISHED-TTL:PT1H
BEGIN:VTIMEZONE
TZID:UTC
BEGIN:STANDARD
TZOFFSETFROM:+0000
TZOFFSETTO:+0000
TZNAME:UTC
DTSTART:20230101T000000
END:STANDARD
END:VTIMEZONE
BEGIN:VEVENT
DTSTART;TZID=UTC:20241005T100000
DTEND;TZID=UTC:20241006T190000
DTSTAMP:20260421T101402
CREATED:20240917T151218Z
LAST-MODIFIED:20240920T160206Z
UID:1532-1728122400-1728241200@reynaud-events.fr
SUMMARY:Salon du Mariage à Orange 5 et 6 Octobre
DESCRIPTION:Pour la 7eme année le salon du mariage se tiendra à l'espace Daudet d'orangeUn lieu rassemblant une quarantaine de professionnels du monde du mariage qui seront présents pour vous conseiller et vous guider dans les préparatifs de votre mariage.l'entrée est gratuite pour tousrestauration possible sur placeEt tombola gratuite avec 1000€ de bons d'achats a gagner (utilisable chez nos prestataires présents)
URL:https://reynaud-events.fr/agenda/salon-du-mariage-a-orange-5-et-6-octobre
LOCATION:Espace Alphonse Daudet\, 24 avenue Antoine Pinay 84100 Orange\, 24 avenue Antoine Pinay\, Orange\, 84100\, France
END:VEVENT
BEGIN:VEVENT
DTSTART;TZID=UTC:20241025T200000
DTEND;TZID=UTC:20241025T233000
DTSTAMP:20260421T101402
CREATED:20241014T170551Z
LAST-MODIFIED:20241015T075854Z
UID:1588-1729886400-1729899000@reynaud-events.fr
SUMMARY:Dîner Concert Octobre Rose
DESCRIPTION:Retrouvez le champagne JM Gobillard au Castel\n\n\n\nA l'occasion du Mois d"Octobre Rose"\, le restaurant le Restaurant Le castel à Châteaurenard et le Champagne JM Gobillard et Fils\, Hautvillers organisent un DINER CONCERT le Vendredi 25 Octobre dès 20h.Au programme\, un menu aux saveurs automnales concocté par le chef des lieux Jean-Jacques\, des bulles pour faire pétiller votre soirée avec le champagne Gobillard et un voyage musical avec le groupe "TRIO". \n\n\n\nSur réservation Uniquement au : 04 90 94 92 15 15 rue Berthelot 13160 Ville de Châteaurenard
URL:https://reynaud-events.fr/agenda/diner-concert-octobre-rose
LOCATION:15 rue Berthelot 13160 Châteaurenard\, 15 rue Berthelot\, Châteaurenard\, 13160\, France
END:VEVENT
END:VCALENDAR